BEGIN:VCALENDAR
VERSION:2.0
PRODID:-//Cotting Transition Institute - ECPv6.15.20//NONSGML v1.0//EN
CALSCALE:GREGORIAN
METHOD:PUBLISH
X-ORIGINAL-URL:https://cottingtransition.org
X-WR-CALDESC:Events for Cotting Transition Institute
REFRESH-INTERVAL;VALUE=DURATION:PT1H
X-Robots-Tag:noindex
X-PUBLISHED-TTL:PT1H
BEGIN:VTIMEZONE
TZID:America/New_York
BEGIN:DAYLIGHT
TZOFFSETFROM:-0500
TZOFFSETTO:-0400
TZNAME:EDT
DTSTART:20240310T070000
END:DAYLIGHT
BEGIN:STANDARD
TZOFFSETFROM:-0400
TZOFFSETTO:-0500
TZNAME:EST
DTSTART:20241103T060000
END:STANDARD
BEGIN:DAYLIGHT
TZOFFSETFROM:-0500
TZOFFSETTO:-0400
TZNAME:EDT
DTSTART:20250309T070000
END:DAYLIGHT
BEGIN:STANDARD
TZOFFSETFROM:-0400
TZOFFSETTO:-0500
TZNAME:EST
DTSTART:20251102T060000
END:STANDARD
BEGIN:DAYLIGHT
TZOFFSETFROM:-0500
TZOFFSETTO:-0400
TZNAME:EDT
DTSTART:20260308T070000
END:DAYLIGHT
BEGIN:STANDARD
TZOFFSETFROM:-0400
TZOFFSETTO:-0500
TZNAME:EST
DTSTART:20261101T060000
END:STANDARD
END:VTIMEZONE
BEGIN:VEVENT
DTSTART;TZID=America/New_York:20250825T180000
DTEND;TZID=America/New_York:20250825T193000
DTSTAMP:20260426T002003
CREATED:20250204T214201Z
LAST-MODIFIED:20250513T142324Z
UID:10000027-1756144800-1756150200@cottingtransition.org
SUMMARY:Members-Only Mixer: End of Summer
DESCRIPTION:Content is protected.
URL:https://cottingtransition.org/event/members-only-mixer-end-of-summer/
LOCATION:Cotting Transition Institute
CATEGORIES:General,Members Only
END:VEVENT
BEGIN:VEVENT
DTSTART;TZID=America/New_York:20250821T160000
DTEND;TZID=America/New_York:20250821T190000
DTSTAMP:20260426T002003
CREATED:20250507T155720Z
LAST-MODIFIED:20250815T130930Z
UID:10000067-1755792000-1755802800@cottingtransition.org
SUMMARY:Drop-In Lounge
DESCRIPTION:Our drop-in lounge events provides participants (with the support of a PCA/parent/caregiver\, if applicable) the opportunity to hang out at the CTI with their friends\, play board games/pool and grab a slice of pizza\, which is included in the price. If you attend and would like to bring your own food (instead of eating pizza)\, you are welcome to do so!
URL:https://cottingtransition.org/event/drop-in-lounge-10/
LOCATION:Cotting Transition Institute
CATEGORIES:General
END:VEVENT
BEGIN:VEVENT
DTSTART;TZID=America/New_York:20250820T100000
DTEND;TZID=America/New_York:20250820T113000
DTSTAMP:20260426T002003
CREATED:20250505T200049Z
LAST-MODIFIED:20250801T152139Z
UID:10000062-1755684000-1755689400@cottingtransition.org
SUMMARY:Gardening Club
DESCRIPTION:Get your hands dirty and use your green thumb by joining the CTI Gardening Club! We will be watering\, weeding\, growing and harvesting vegetables\, flowers and herbs. You’ll even have the opportunity to bring home freshly picked flower bouquets or veggies!
URL:https://cottingtransition.org/event/gardening-club-4/
LOCATION:Cotting Transition Institute
CATEGORIES:General
END:VEVENT
BEGIN:VEVENT
DTSTART;TZID=America/New_York:20250819T100000
DTEND;TZID=America/New_York:20250819T110000
DTSTAMP:20260426T002003
CREATED:20250513T141809Z
LAST-MODIFIED:20250707T160425Z
UID:10000077-1755597600-1755601200@cottingtransition.org
SUMMARY:Job Readiness
DESCRIPTION:Need some help finding the job that’s right for you? Get the rundown on how to look for a position that fits your individual strengths and interests.
URL:https://cottingtransition.org/event/job-readiness/
LOCATION:Cotting Transition Institute
CATEGORIES:General
END:VEVENT
BEGIN:VEVENT
DTSTART;TZID=America/New_York:20250813T110000
DTEND;TZID=America/New_York:20250813T130000
DTSTAMP:20260426T002003
CREATED:20250512T175515Z
LAST-MODIFIED:20250707T155655Z
UID:10000076-1755082800-1755090000@cottingtransition.org
SUMMARY:Lunch Group
DESCRIPTION:Spend a couple of hours at the CTI cooking lunch and dining with friends! You’ll learn how to make a simple lunch item (recipe card included).
URL:https://cottingtransition.org/event/lunch-group/
LOCATION:Cotting Transition Institute
CATEGORIES:General
END:VEVENT
BEGIN:VEVENT
DTSTART;TZID=America/New_York:20250812T090000
DTEND;TZID=America/New_York:20250812T103000
DTSTAMP:20260426T002003
CREATED:20250327T175704Z
LAST-MODIFIED:20250505T160634Z
UID:10000018-1754989200-1754994600@cottingtransition.org
SUMMARY:Information Session
DESCRIPTION:Learn more about what the Cotting Transition Institute has to offer by joining us for an information session. Take a tour of the space and hear about our social and recreational offerings.
URL:https://cottingtransition.org/event/information-session-6/
LOCATION:Cotting Transition Institute
CATEGORIES:General
END:VEVENT
BEGIN:VEVENT
DTSTART;TZID=America/New_York:20250811T170000
DTEND;TZID=America/New_York:20250811T190000
DTSTAMP:20260426T002003
CREATED:20250507T202220Z
LAST-MODIFIED:20250707T155616Z
UID:10000075-1754931600-1754938800@cottingtransition.org
SUMMARY:Karaoke Night
DESCRIPTION:Join the CTI for our first ever karaoke party! Whether you prefer to sing solo\, perform together with friends or just sit back and enjoy the show\, we guarantee you will have a fun and entertaining evening.
URL:https://cottingtransition.org/event/karaoke-night/
LOCATION:Cotting Transition Institute
CATEGORIES:General
END:VEVENT
BEGIN:VEVENT
DTSTART;TZID=America/New_York:20250807T160000
DTEND;TZID=America/New_York:20250807T190000
DTSTAMP:20260426T002003
CREATED:20250505T201516Z
LAST-MODIFIED:20250815T125854Z
UID:10000066-1754582400-1754593200@cottingtransition.org
SUMMARY:Drop-In Lounge
DESCRIPTION:Our “drop-in lounge” is an opportunity for individuals the opportunity to hang out at the CTI with their friends\, play board games/pool\, engage in art activities\, and grab a slice of pizza\, which is included in the price. If you attend and would like to bring your own food\, you are welcome to do so!
URL:https://cottingtransition.org/event/drop-in-lounge-9/
LOCATION:Cotting Transition Institute
CATEGORIES:General
END:VEVENT
BEGIN:VEVENT
DTSTART;TZID=America/New_York:20250805T100000
DTEND;TZID=America/New_York:20250805T113000
DTSTAMP:20260426T002003
CREATED:20250505T164457Z
LAST-MODIFIED:20250707T155447Z
UID:10000061-1754388000-1754393400@cottingtransition.org
SUMMARY:Gardening Club
DESCRIPTION:Get your hands dirty and use your green thumb by joining the CTI Gardening Club! We will be watering\, weeding\, growing and harvesting vegetables\, flowers and herbs. You’ll even have the opportunity to bring home freshly picked flower bouquets or veggies!
URL:https://cottingtransition.org/event/gardening-club-3/
LOCATION:Cotting Transition Institute
CATEGORIES:General
END:VEVENT
BEGIN:VEVENT
DTSTART;TZID=America/New_York:20250729T170000
DTEND;TZID=America/New_York:20250729T190000
DTSTAMP:20260426T002003
CREATED:20250507T201514Z
LAST-MODIFIED:20250522T174053Z
UID:10000074-1753808400-1753815600@cottingtransition.org
SUMMARY:Live Music With Becky & the Swingin' Bards
DESCRIPTION:Join us for an evening of live music with Becky and the Swingin’ Bards!  Enjoy an array of blues\, soul and R&B\, as well as some original tunes. Featuring professional musicians\, this local band is known for playing blues from the 60s\, 70s and 80s that features three and four part harmonies\, killer solos\, tender ballads and high energy grooves.
URL:https://cottingtransition.org/event/live-music/
LOCATION:Cotting Transition Institute
CATEGORIES:General
END:VEVENT
BEGIN:VEVENT
DTSTART;TZID=America/New_York:20250729T100000
DTEND;TZID=America/New_York:20250729T110000
DTSTAMP:20260426T002003
CREATED:20250507T201227Z
LAST-MODIFIED:20250522T173932Z
UID:10000073-1753783200-1753786800@cottingtransition.org
SUMMARY:Budgeting & Saving (How To)
DESCRIPTION:Learn the basics about budgeting and savings in this free in person seminar led by Philip Mustone of Cambridge Savings Bank.
URL:https://cottingtransition.org/event/budgeting-saving-how-to/
LOCATION:Cotting Transition Institute
CATEGORIES:General
END:VEVENT
BEGIN:VEVENT
DTSTART;TZID=America/New_York:20250724T160000
DTEND;TZID=America/New_York:20250724T190000
DTSTAMP:20260426T002003
CREATED:20250505T201209Z
LAST-MODIFIED:20250522T173852Z
UID:10000065-1753372800-1753383600@cottingtransition.org
SUMMARY:Drop-In Lounge
DESCRIPTION:Our “drop-in lounge” events provide alumni (with the support of a PCA/parent/caregiver\, if applicable) the opportunity to hang out at the CTI with their friends\, play board games/pool and grab a slice of pizza\, which is included in the price. If you attend and would like to bring your own food (instead of eating pizza)\, you are welcome to do so!
URL:https://cottingtransition.org/event/drop-in-lounge-8/
LOCATION:Cotting Transition Institute
CATEGORIES:General
END:VEVENT
BEGIN:VEVENT
DTSTART;TZID=America/New_York:20250723T150000
DTEND;TZID=America/New_York:20250723T163000
DTSTAMP:20260426T002003
CREATED:20250505T162750Z
LAST-MODIFIED:20250522T173813Z
UID:10000058-1753282800-1753288200@cottingtransition.org
SUMMARY:Bowling Club
DESCRIPTION:Love bowling? Join the CTI for a fun afternoon of bowling with friends\, right in Cotting School’s own bowling alley in the Campus Center!
URL:https://cottingtransition.org/event/bowling-club-2/
LOCATION:Cotting School Campus Center
CATEGORIES:General
END:VEVENT
BEGIN:VEVENT
DTSTART;TZID=America/New_York:20250722T100000
DTEND;TZID=America/New_York:20250722T113000
DTSTAMP:20260426T002003
CREATED:20250505T164135Z
LAST-MODIFIED:20250721T142534Z
UID:10000060-1753178400-1753183800@cottingtransition.org
SUMMARY:CANCELLED: Gardening Club
DESCRIPTION:Please Note: This event has been cancelled. \nGet your hands dirty and use your green thumb by joining the CTI Gardening Club! We will be watering\, weeding\, growing and harvesting vegetables\, flowers and herbs. You’ll even have the opportunity to bring home freshly picked flower bouquets or veggies!
URL:https://cottingtransition.org/event/gardening-club-2/
LOCATION:Cotting Transition Institute
CATEGORIES:General
END:VEVENT
BEGIN:VEVENT
DTSTART;TZID=America/New_York:20250715T170000
DTEND;TZID=America/New_York:20250715T183000
DTSTAMP:20260426T002003
CREATED:20250507T200519Z
LAST-MODIFIED:20250522T173647Z
UID:10000072-1752598800-1752604200@cottingtransition.org
SUMMARY:Mindfulness & Relaxation Group
DESCRIPTION:Join us for an evening of gentle movement\, relaxation and stress relief\, led by mindfulness coach Biliana Angelova\, M.A.\, M.Ed.\, RYT 200.
URL:https://cottingtransition.org/event/mindfulness/
LOCATION:Cotting Transition Institute
CATEGORIES:General
END:VEVENT
BEGIN:VEVENT
DTSTART;TZID=America/New_York:20250715T090000
DTEND;TZID=America/New_York:20250715T110000
DTSTAMP:20260426T002003
CREATED:20250507T200119Z
LAST-MODIFIED:20250707T155104Z
UID:10000071-1752570000-1752577200@cottingtransition.org
SUMMARY:Breakfast Club
DESCRIPTION:Love breakfast? Join us for a morning of cooking and conversation! Learn how to make a delicious breakfast and dine with friends. Recipe card included!
URL:https://cottingtransition.org/event/breakfast-club/
LOCATION:Cotting Transition Institute
CATEGORIES:General
END:VEVENT
BEGIN:VEVENT
DTSTART;TZID=America/New_York:20250710T160000
DTEND;TZID=America/New_York:20250710T190000
DTSTAMP:20260426T002003
CREATED:20250505T200717Z
LAST-MODIFIED:20250522T173358Z
UID:10000064-1752163200-1752174000@cottingtransition.org
SUMMARY:Drop-In Lounge
DESCRIPTION:Our “drop-in lounge” events provide alumni (with the support of a PCA/parent/caregiver\, if applicable) the opportunity to hang out at the CTI with their friends\, play board games/pool and grab a slice of pizza\, which is included in the price. If you attend and would like to bring your own food (instead of eating pizza)\, you are welcome to do so!
URL:https://cottingtransition.org/event/drop-in-lounge-7/
LOCATION:Cotting Transition Institute
CATEGORIES:General
END:VEVENT
BEGIN:VEVENT
DTSTART;TZID=America/New_York:20250709T100000
DTEND;TZID=America/New_York:20250709T113000
DTSTAMP:20260426T002003
CREATED:20250505T163607Z
LAST-MODIFIED:20250522T173319Z
UID:10000059-1752055200-1752060600@cottingtransition.org
SUMMARY:Gardening Club
DESCRIPTION:Get your hands dirty and use your green thumb by joining the CTI Gardening Club! We will be watering\, weeding\, growing and harvesting vegetables\, flowers and herbs. You’ll even have the opportunity to bring home freshly picked flower bouquets or veggies!
URL:https://cottingtransition.org/event/gardening-club/
LOCATION:Cotting Transition Institute
CATEGORIES:General
END:VEVENT
BEGIN:VEVENT
DTSTART;TZID=America/New_York:20250708T150000
DTEND;TZID=America/New_York:20250708T163000
DTSTAMP:20260426T002003
CREATED:20250505T162256Z
LAST-MODIFIED:20250522T173237Z
UID:10000057-1751986800-1751992200@cottingtransition.org
SUMMARY:Bowling Club
DESCRIPTION:Love bowling? Join the CTI for a fun afternoon of bowling with friends\, right in Cotting School’s own bowling alley in the Campus Center!
URL:https://cottingtransition.org/event/bowling-club/
LOCATION:Cotting School Campus Center
CATEGORIES:General
END:VEVENT
BEGIN:VEVENT
DTSTART;TZID=America/New_York:20250708T090000
DTEND;TZID=America/New_York:20250708T103000
DTSTAMP:20260426T002003
CREATED:20250327T175524Z
LAST-MODIFIED:20250505T160147Z
UID:10000017-1751965200-1751970600@cottingtransition.org
SUMMARY:Information Session
DESCRIPTION:Learn more about what the Cotting Transition Institute has to offer by joining us for an information session. Take a tour of the space and hear about our social and recreational offerings.
URL:https://cottingtransition.org/event/information-session-5/
LOCATION:Cotting Transition Institute
CATEGORIES:General
END:VEVENT
BEGIN:VEVENT
DTSTART;TZID=America/New_York:20250630T180000
DTEND;TZID=America/New_York:20250630T193000
DTSTAMP:20260426T002003
CREATED:20250204T214055Z
LAST-MODIFIED:20250618T160245Z
UID:10000026-1751306400-1751311800@cottingtransition.org
SUMMARY:Members-Only Mixer: Games and Crafts
DESCRIPTION:Content is protected.
URL:https://cottingtransition.org/event/members-only-mixer-games-and-crafts/
LOCATION:Cotting Transition Institute
CATEGORIES:General,Members Only
END:VEVENT
BEGIN:VEVENT
DTSTART;TZID=America/New_York:20250630T100000
DTEND;TZID=America/New_York:20250630T110000
DTSTAMP:20260426T002003
CREATED:20250320T210345Z
LAST-MODIFIED:20250618T155948Z
UID:10000051-1751277600-1751281200@cottingtransition.org
SUMMARY:Career Navigator Speaker Series
DESCRIPTION:This event has been cancelled. Please check back with us during the fall of 2025 for more career related offerings.
URL:https://cottingtransition.org/event/career-navigator-speaker-series-5/
LOCATION:Online Via Zoom
CATEGORIES:General
END:VEVENT
BEGIN:VEVENT
DTSTART;TZID=America/New_York:20250627T153000
DTEND;TZID=America/New_York:20250627T183000
DTSTAMP:20260426T002003
CREATED:20250318T152314Z
LAST-MODIFIED:20250618T155809Z
UID:10000054-1751038200-1751049000@cottingtransition.org
SUMMARY:Drop-In Lounge
DESCRIPTION:This event has been cancelled. \nOur “drop-in lounge” events provide alumni (with the support of a PCA/parent/caregiver\, if applicable) the opportunity to hang out at the CTI with their friends\, play board games/pool and grab a slice of pizza\, which is included in the price. If you attend and would like to bring your own food (instead of eating pizza)\, you are welcome to do so!
URL:https://cottingtransition.org/event/drop-in-lounge-6/
LOCATION:Cotting Transition Institute
CATEGORIES:General
END:VEVENT
BEGIN:VEVENT
DTSTART;TZID=America/New_York:20250625T140000
DTEND;TZID=America/New_York:20250625T160000
DTSTAMP:20260426T002003
CREATED:20250318T151943Z
LAST-MODIFIED:20250618T155220Z
UID:10000053-1750860000-1750867200@cottingtransition.org
SUMMARY:The Cookie Project Baking Group
DESCRIPTION:*This event has been postponed. A revised date during the summer will be provided soon. \nJoin us for a (nut free) cookie baking and cookie swap event!
URL:https://cottingtransition.org/event/the-cookie-project-baking-group/
LOCATION:Cotting Transition Institute
CATEGORIES:General
END:VEVENT
BEGIN:VEVENT
DTSTART;TZID=America/New_York:20250624T173000
DTEND;TZID=America/New_York:20250624T193000
DTSTAMP:20260426T002003
CREATED:20250318T151711Z
LAST-MODIFIED:20250618T154240Z
UID:10000052-1750786200-1750793400@cottingtransition.org
SUMMARY:Jewels & Journeys: Bracelets and Music
DESCRIPTION:*This event has been postponed. A rescheduled offering will be added to the calendar soon! \nJoin your friends at the CTI to make bracelets and listen to your favorite music together!
URL:https://cottingtransition.org/event/jewels-journeys-bracelets-and-music-3/
LOCATION:Cotting Transition Institute
CATEGORIES:General
END:VEVENT
BEGIN:VEVENT
DTSTART;TZID=America/New_York:20250616T100000
DTEND;TZID=America/New_York:20250616T110000
DTSTAMP:20260426T002003
CREATED:20250320T210213Z
LAST-MODIFIED:20250327T150852Z
UID:10000050-1750068000-1750071600@cottingtransition.org
SUMMARY:Career Navigator Speaker Series
DESCRIPTION:This FREE online session will feature a career guest speaker. More information and Zoom link TBD.
URL:https://cottingtransition.org/event/career-navigator-speaker-series-4/
LOCATION:Online Via Zoom
CATEGORIES:General
END:VEVENT
BEGIN:VEVENT
DTSTART;TZID=America/New_York:20250613T153000
DTEND;TZID=America/New_York:20250613T183000
DTSTAMP:20260426T002003
CREATED:20250318T150911Z
LAST-MODIFIED:20250404T195717Z
UID:10000049-1749828600-1749839400@cottingtransition.org
SUMMARY:Drop-In Lounge
DESCRIPTION:Our “drop-in lounge” events provide alumni (with the support of a PCA/parent/caregiver\, if applicable) the opportunity to hang out at the CTI with their friends\, play board games/pool and grab a slice of pizza\, which is included in the price. If you attend and would like to bring your own food (instead of eating pizza)\, you are welcome to do so!
URL:https://cottingtransition.org/event/drop-in-lounge-5/
LOCATION:Cotting Transition Institute
CATEGORIES:General
END:VEVENT
BEGIN:VEVENT
DTSTART;TZID=America/New_York:20250610T090000
DTEND;TZID=America/New_York:20250610T103000
DTSTAMP:20260426T002003
CREATED:20250327T175304Z
LAST-MODIFIED:20250327T175414Z
UID:10000016-1749546000-1749551400@cottingtransition.org
SUMMARY:Information Session
DESCRIPTION:Join Director Jenn Callison to learn more about CTI services and programs and take a tour of our newly renovated facility. Each session will last approximately 90 minutes and will give you an overview of our offerings\, future programs and membership structure. There will also be time for Q&A.
URL:https://cottingtransition.org/event/information-session-4/
LOCATION:Cotting Transition Institute
CATEGORIES:General
END:VEVENT
BEGIN:VEVENT
DTSTART;TZID=America/New_York:20250605T120000
DTEND;TZID=America/New_York:20250605T130000
DTSTAMP:20260426T002003
CREATED:20250317T203544Z
LAST-MODIFIED:20250327T152016Z
UID:10000045-1749124800-1749128400@cottingtransition.org
SUMMARY:Autism Housing Pathways
DESCRIPTION:The fourth of four FREE online information sessions on housing for people with autism\, hosted by Cathy Boyle\, President of Autism Housing Pathways.
URL:https://cottingtransition.org/event/autism-housing-pathways-2-2-2/
LOCATION:Online Via Zoom
CATEGORIES:General
END:VEVENT
BEGIN:VEVENT
DTSTART;TZID=America/New_York:20250602T100000
DTEND;TZID=America/New_York:20250602T110000
DTSTAMP:20260426T002003
CREATED:20250320T210017Z
LAST-MODIFIED:20250327T150922Z
UID:10000048-1748858400-1748862000@cottingtransition.org
SUMMARY:Career Navigator Speaker Series
DESCRIPTION:This FREE online session will feature a career guest speaker. More information and Zoom link TBD.
URL:https://cottingtransition.org/event/career-navigator-speaker-series-3/
LOCATION:Online Via Zoom
CATEGORIES:General
END:VEVENT
END:VCALENDAR