BEGIN:VCALENDAR
VERSION:2.0
PRODID:-//Cotting Transition Institute - ECPv6.15.20//NONSGML v1.0//EN
CALSCALE:GREGORIAN
METHOD:PUBLISH
X-ORIGINAL-URL:https://cottingtransition.org
X-WR-CALDESC:Events for Cotting Transition Institute
REFRESH-INTERVAL;VALUE=DURATION:PT1H
X-Robots-Tag:noindex
X-PUBLISHED-TTL:PT1H
BEGIN:VTIMEZONE
TZID:America/New_York
BEGIN:DAYLIGHT
TZOFFSETFROM:-0500
TZOFFSETTO:-0400
TZNAME:EDT
DTSTART:20250309T070000
END:DAYLIGHT
BEGIN:STANDARD
TZOFFSETFROM:-0400
TZOFFSETTO:-0500
TZNAME:EST
DTSTART:20251102T060000
END:STANDARD
BEGIN:DAYLIGHT
TZOFFSETFROM:-0500
TZOFFSETTO:-0400
TZNAME:EDT
DTSTART:20260308T070000
END:DAYLIGHT
BEGIN:STANDARD
TZOFFSETFROM:-0400
TZOFFSETTO:-0500
TZNAME:EST
DTSTART:20261101T060000
END:STANDARD
BEGIN:DAYLIGHT
TZOFFSETFROM:-0500
TZOFFSETTO:-0400
TZNAME:EDT
DTSTART:20270314T070000
END:DAYLIGHT
BEGIN:STANDARD
TZOFFSETFROM:-0400
TZOFFSETTO:-0500
TZNAME:EST
DTSTART:20271107T060000
END:STANDARD
END:VTIMEZONE
BEGIN:VEVENT
DTSTART;TZID=America/New_York:20260617T130000
DTEND;TZID=America/New_York:20260617T143000
DTSTAMP:20260425T072541
CREATED:20260212T021600Z
LAST-MODIFIED:20260226T150506Z
UID:10000228-1781701200-1781706600@cottingtransition.org
SUMMARY:Gardening Club
DESCRIPTION:Get your hands dirty and use your green thumb by learning how to garden! We will be starting plants from seeds\, watering\, weeding\, growing and harvesting vegetables\, flowers and herbs. You’ll even have the opportunity to bring home freshly picked flower bouquets or homegrown veggies.
URL:https://cottingtransition.org/event/gardening-club-10/
LOCATION:Cotting Transition Institute
CATEGORIES:General
ORGANIZER;CN="Erika Cain":MAILTO:ecain@cotting.org
END:VEVENT
BEGIN:VEVENT
DTSTART;TZID=America/New_York:20260618T160000
DTEND;TZID=America/New_York:20260618T190000
DTSTAMP:20260425T072541
CREATED:20260215T205219Z
LAST-MODIFIED:20260226T150535Z
UID:10000261-1781798400-1781809200@cottingtransition.org
SUMMARY:Cooking Around the World: Dinner
DESCRIPTION:In our Cooking Around the World series\, you’ll learn about global culture and cuisine as we create a meal together and work on our independent cooking skills. Together\, we’ll explore the language\, culture and history as we follow a recipe to make a traditional dinner typically eaten in another country. The price of the ticket includes a wonderful meal and a recipe card to take home to your family. We will connect with you before the event to discuss allergies and preferences in order to pick a recipe that everyone will enjoy.
URL:https://cottingtransition.org/event/cooking-around-the-world-dinner-2/
LOCATION:Cotting Transition Institute
CATEGORIES:General
ORGANIZER;CN="Erika Cain":MAILTO:ecain@cotting.org
END:VEVENT
BEGIN:VEVENT
DTSTART;TZID=America/New_York:20260623T160000
DTEND;TZID=America/New_York:20260623T173000
DTSTAMP:20260425T072541
CREATED:20260212T024238Z
LAST-MODIFIED:20260226T150559Z
UID:10000234-1782230400-1782235800@cottingtransition.org
SUMMARY:Yoga and Mindfulness
DESCRIPTION:Join us for an adapted yoga and mindfulness class. Our teacher\, Tonya\, will break the class up into two parts: one part yoga and one part mindfulness\, meditation and deep breathing.Tonya has over 25 years of experience teaching individuals of all ages and abilities. She believes yoga should be accessible to every human\, creates a safe and supportive environment and brings a deep understanding of the practice of yoga and mindfulness both on and off the mat. Tonya is licensed by world renowned Yoga for All Abilities and is certified by Yoga Alliance as E-RYT 1000. She is a mother to two amazing children and\, in her free time\, enjoys dancing\, hiking\, art and reading.
URL:https://cottingtransition.org/event/yoga-and-mindfulness-12/
LOCATION:Cotting Transition Institute
CATEGORIES:General
END:VEVENT
BEGIN:VEVENT
DTSTART;TZID=America/New_York:20260624T160000
DTEND;TZID=America/New_York:20260624T180000
DTSTAMP:20260425T072541
CREATED:20260215T205555Z
LAST-MODIFIED:20260226T150624Z
UID:10000262-1782316800-1782324000@cottingtransition.org
SUMMARY:Guided Paint Night
DESCRIPTION:Join us for a Guided Paint Night where participants follow along with an art instructor to create their own unique piece of artwork. Taught by Aly Robinson\, a former Cotting staff member and former Muse Paint Bar employee. Aly is a Licensed Mental Health Counselor and trained art educator with a degree from MassArt. She will provide step-by-step instructions and demonstrations to ensure that everyone completes their painting\, regardless of skill level. The focus is on having fun and expressing oneself creatively\, rather than producing a masterpiece. All supplies–including canvases\, paint\, brushes and aprons to protect your clothing–will be provided. Please dress in clothes that are okay to get paint on them\, just in case. All attendees will leave this event with a beautifully painted canvas.
URL:https://cottingtransition.org/event/guided-paint-night-3/
LOCATION:Cotting Transition Institute
CATEGORIES:General
END:VEVENT
BEGIN:VEVENT
DTSTART;TZID=America/New_York:20260625T153000
DTEND;TZID=America/New_York:20260625T183000
DTSTAMP:20260425T072541
CREATED:20260210T171914Z
LAST-MODIFIED:20260226T150649Z
UID:10000223-1782401400-1782412200@cottingtransition.org
SUMMARY:Drop-In Lounge
DESCRIPTION:Our drop-in lounge events provide young adults (with the support of a PCA/parent/caregiver\, if applicable) the opportunity to hang out with their friends\, play games\, get creative with some craft projects and enjoy a meal together. Meals are included in the price and rotate between options from one week to the next (e.g.\, pizza\, pasta\, etc.). This week we will be enjoying a pizza dinner together (including gluten free and dairy free options).  If you would prefer to bring your own food\, you are welcome to do so\, as long as it is nut free.
URL:https://cottingtransition.org/event/drop-in-lounge-29/
LOCATION:Cotting Transition Institute
CATEGORIES:General
ORGANIZER;CN="Erika Cain":MAILTO:ecain@cotting.org
END:VEVENT
END:VCALENDAR