BEGIN:VCALENDAR
VERSION:2.0
PRODID:-//Cotting Transition Institute - ECPv6.15.20//NONSGML v1.0//EN
CALSCALE:GREGORIAN
METHOD:PUBLISH
X-ORIGINAL-URL:https://cottingtransition.org
X-WR-CALDESC:Events for Cotting Transition Institute
REFRESH-INTERVAL;VALUE=DURATION:PT1H
X-Robots-Tag:noindex
X-PUBLISHED-TTL:PT1H
BEGIN:VTIMEZONE
TZID:America/New_York
BEGIN:DAYLIGHT
TZOFFSETFROM:-0500
TZOFFSETTO:-0400
TZNAME:EDT
DTSTART:20250309T070000
END:DAYLIGHT
BEGIN:STANDARD
TZOFFSETFROM:-0400
TZOFFSETTO:-0500
TZNAME:EST
DTSTART:20251102T060000
END:STANDARD
BEGIN:DAYLIGHT
TZOFFSETFROM:-0500
TZOFFSETTO:-0400
TZNAME:EDT
DTSTART:20260308T070000
END:DAYLIGHT
BEGIN:STANDARD
TZOFFSETFROM:-0400
TZOFFSETTO:-0500
TZNAME:EST
DTSTART:20261101T060000
END:STANDARD
BEGIN:DAYLIGHT
TZOFFSETFROM:-0500
TZOFFSETTO:-0400
TZNAME:EDT
DTSTART:20270314T070000
END:DAYLIGHT
BEGIN:STANDARD
TZOFFSETFROM:-0400
TZOFFSETTO:-0500
TZNAME:EST
DTSTART:20271107T060000
END:STANDARD
END:VTIMEZONE
BEGIN:VEVENT
DTSTART;TZID=America/New_York:20260127T130000
DTEND;TZID=America/New_York:20260127T150000
DTSTAMP:20260425T083036
CREATED:20251107T162532Z
LAST-MODIFIED:20260122T193147Z
UID:10000158-1769518800-1769526000@cottingtransition.org
SUMMARY:Baking Club (Rescheduled)
DESCRIPTION:This date is rescheduled from when it was cancelled on January 21st. Participants will be baking homemade sweet or savory hot pockets and sweet monkey bread. \nWhether you are an experienced baker or aspiring to be one\, come check out CTI’s once-a-month Baking Club! We will be picking recipes that fit all participants’ dietary needs\, and everyone will be able to take the treats we bake home to enjoy with their friends and family. Participants will decide together whether they’d prefer to bake something sweet (like cookies) or savory (like bread). Each participant will also get to take home a recipe card and helpful baking guide!
URL:https://cottingtransition.org/event/baking-club/
LOCATION:Cotting Transition Institute
CATEGORIES:General
ORGANIZER;CN="Erika Cain":MAILTO:ecain@cotting.org
END:VEVENT
END:VCALENDAR