BEGIN:VCALENDAR
VERSION:2.0
PRODID:-//Cotting Transition Institute - ECPv6.15.20//NONSGML v1.0//EN
CALSCALE:GREGORIAN
METHOD:PUBLISH
X-WR-CALNAME:Cotting Transition Institute
X-ORIGINAL-URL:https://cottingtransition.org
X-WR-CALDESC:Events for Cotting Transition Institute
REFRESH-INTERVAL;VALUE=DURATION:PT1H
X-Robots-Tag:noindex
X-PUBLISHED-TTL:PT1H
BEGIN:VTIMEZONE
TZID:America/New_York
BEGIN:DAYLIGHT
TZOFFSETFROM:-0500
TZOFFSETTO:-0400
TZNAME:EDT
DTSTART:20250309T070000
END:DAYLIGHT
BEGIN:STANDARD
TZOFFSETFROM:-0400
TZOFFSETTO:-0500
TZNAME:EST
DTSTART:20251102T060000
END:STANDARD
BEGIN:DAYLIGHT
TZOFFSETFROM:-0500
TZOFFSETTO:-0400
TZNAME:EDT
DTSTART:20260308T070000
END:DAYLIGHT
BEGIN:STANDARD
TZOFFSETFROM:-0400
TZOFFSETTO:-0500
TZNAME:EST
DTSTART:20261101T060000
END:STANDARD
BEGIN:DAYLIGHT
TZOFFSETFROM:-0500
TZOFFSETTO:-0400
TZNAME:EDT
DTSTART:20270314T070000
END:DAYLIGHT
BEGIN:STANDARD
TZOFFSETFROM:-0400
TZOFFSETTO:-0500
TZNAME:EST
DTSTART:20271107T060000
END:STANDARD
END:VTIMEZONE
BEGIN:VEVENT
DTSTART;TZID=America/New_York:20260312T103000
DTEND;TZID=America/New_York:20260312T123000
DTSTAMP:20260425T130038
CREATED:20251112T202937Z
LAST-MODIFIED:20251118T210508Z
UID:10000193-1773311400-1773318600@cottingtransition.org
SUMMARY:Pet Pantry Pop-Up
DESCRIPTION:The Arlington Pet Food Pantry is a need-based donation drive where folks can get any pet-related items they have a need for. The pet pantry will be offering all kinds of dog and cat food\, treats\, litter\, collars\, harnesses and leashes\, toys and equipment\, including litter boxes.  If you are looking for something special\, please let us know because there are many other items that aren’t being brought but that the pantry can bring.  We are looking forward to seeing you all there.
URL:https://cottingtransition.org/event/pet-pantry-pop-up/
LOCATION:Cotting Transition Institute
CATEGORIES:General
ORGANIZER;CN="Erika Cain":MAILTO:ecain@cotting.org
END:VEVENT
END:VCALENDAR