BEGIN:VCALENDAR
VERSION:2.0
PRODID:-//Cotting Transition Institute - ECPv6.15.20//NONSGML v1.0//EN
CALSCALE:GREGORIAN
METHOD:PUBLISH
X-ORIGINAL-URL:https://cottingtransition.org
X-WR-CALDESC:Events for Cotting Transition Institute
REFRESH-INTERVAL;VALUE=DURATION:PT1H
X-Robots-Tag:noindex
X-PUBLISHED-TTL:PT1H
BEGIN:VTIMEZONE
TZID:America/New_York
BEGIN:DAYLIGHT
TZOFFSETFROM:-0500
TZOFFSETTO:-0400
TZNAME:EDT
DTSTART:20250309T070000
END:DAYLIGHT
BEGIN:STANDARD
TZOFFSETFROM:-0400
TZOFFSETTO:-0500
TZNAME:EST
DTSTART:20251102T060000
END:STANDARD
BEGIN:DAYLIGHT
TZOFFSETFROM:-0500
TZOFFSETTO:-0400
TZNAME:EDT
DTSTART:20260308T070000
END:DAYLIGHT
BEGIN:STANDARD
TZOFFSETFROM:-0400
TZOFFSETTO:-0500
TZNAME:EST
DTSTART:20261101T060000
END:STANDARD
BEGIN:DAYLIGHT
TZOFFSETFROM:-0500
TZOFFSETTO:-0400
TZNAME:EDT
DTSTART:20270314T070000
END:DAYLIGHT
BEGIN:STANDARD
TZOFFSETFROM:-0400
TZOFFSETTO:-0500
TZNAME:EST
DTSTART:20271107T060000
END:STANDARD
END:VTIMEZONE
BEGIN:VEVENT
DTSTART;TZID=America/New_York:20260508T140000
DTEND;TZID=America/New_York:20260508T163000
DTSTAMP:20260425T125516
CREATED:20260314T182845Z
LAST-MODIFIED:20260314T182845Z
UID:10000268-1778248800-1778257800@cottingtransition.org
SUMMARY:Treats & Blankets: All Things Animals
DESCRIPTION:In the spirit of giving back\, help us make animal treats for donation to local organizations. We will be making homemade horse treats for LoveLane in Lincoln\, MA\, for their spring horse show. All treats will be horse safe\, nutritious and follow specific recipes. We will also be cutting and tying small pieces of felt together to make blankets that can be turned into washable\, easy-to-pack animal beds for cats and dogs for The Arlington Pet Food Pantry\, a need-based pantry where folks can get pet-related items for free. All supplies for this event will be provided–the only missing ingredient is your help!
URL:https://cottingtransition.org/event/treats-blankets-all-things-animals/
LOCATION:Cotting Transition Institute
CATEGORIES:General
ORGANIZER;CN="Erika Cain":MAILTO:ecain@cotting.org
END:VEVENT
END:VCALENDAR