BEGIN:VCALENDAR
VERSION:2.0
PRODID:-//Cotting Transition Institute - ECPv6.15.20//NONSGML v1.0//EN
CALSCALE:GREGORIAN
METHOD:PUBLISH
X-ORIGINAL-URL:https://cottingtransition.org
X-WR-CALDESC:Events for Cotting Transition Institute
REFRESH-INTERVAL;VALUE=DURATION:PT1H
X-Robots-Tag:noindex
X-PUBLISHED-TTL:PT1H
BEGIN:VTIMEZONE
TZID:America/New_York
BEGIN:DAYLIGHT
TZOFFSETFROM:-0500
TZOFFSETTO:-0400
TZNAME:EDT
DTSTART:20240310T070000
END:DAYLIGHT
BEGIN:STANDARD
TZOFFSETFROM:-0400
TZOFFSETTO:-0500
TZNAME:EST
DTSTART:20241103T060000
END:STANDARD
BEGIN:DAYLIGHT
TZOFFSETFROM:-0500
TZOFFSETTO:-0400
TZNAME:EDT
DTSTART:20250309T070000
END:DAYLIGHT
BEGIN:STANDARD
TZOFFSETFROM:-0400
TZOFFSETTO:-0500
TZNAME:EST
DTSTART:20251102T060000
END:STANDARD
BEGIN:DAYLIGHT
TZOFFSETFROM:-0500
TZOFFSETTO:-0400
TZNAME:EDT
DTSTART:20260308T070000
END:DAYLIGHT
BEGIN:STANDARD
TZOFFSETFROM:-0400
TZOFFSETTO:-0500
TZNAME:EST
DTSTART:20261101T060000
END:STANDARD
END:VTIMEZONE
BEGIN:VEVENT
DTSTART;TZID=America/New_York:20251107T140000
DTEND;TZID=America/New_York:20251107T143000
DTSTAMP:20260425T190638
CREATED:20251024T141419Z
LAST-MODIFIED:20251107T135911Z
UID:10000132-1762524000-1762525800@cottingtransition.org
SUMMARY:EPIC Service Warriors Online Presentation
DESCRIPTION:CTI will be hosting a zoom call where the organization EPIC will be presenting about their Service Warriors program. It is for any young adult with a disability ages 16-23. It is an in-person program based either out of Boston/Worcester\, where young adults build leadership skills\, get to volunteer and make friends. This event is open to family members\, caregivers or parents\, as well as individuals who are interested in becoming a service warrior. Here is the zoom link: https://us02web.zoom.us/j/7428008944?pwd=NGJ6enNzVVRWMDljT2Y4dDB5bGlkZz09 \n  \n 
URL:https://cottingtransition.org/event/epic-service-warriors-online-presentation/
LOCATION:Online Via Zoom
CATEGORIES:General
ORGANIZER;CN="Erika Cain":MAILTO:ecain@cotting.org
END:VEVENT
END:VCALENDAR