BEGIN:VCALENDAR
VERSION:2.0
PRODID:-//Cotting Transition Institute - ECPv6.15.20//NONSGML v1.0//EN
CALSCALE:GREGORIAN
METHOD:PUBLISH
X-WR-CALNAME:Cotting Transition Institute
X-ORIGINAL-URL:https://cottingtransition.org
X-WR-CALDESC:Events for Cotting Transition Institute
REFRESH-INTERVAL;VALUE=DURATION:PT1H
X-Robots-Tag:noindex
X-PUBLISHED-TTL:PT1H
BEGIN:VTIMEZONE
TZID:America/New_York
BEGIN:DAYLIGHT
TZOFFSETFROM:-0500
TZOFFSETTO:-0400
TZNAME:EDT
DTSTART:20240310T070000
END:DAYLIGHT
BEGIN:STANDARD
TZOFFSETFROM:-0400
TZOFFSETTO:-0500
TZNAME:EST
DTSTART:20241103T060000
END:STANDARD
BEGIN:DAYLIGHT
TZOFFSETFROM:-0500
TZOFFSETTO:-0400
TZNAME:EDT
DTSTART:20250309T070000
END:DAYLIGHT
BEGIN:STANDARD
TZOFFSETFROM:-0400
TZOFFSETTO:-0500
TZNAME:EST
DTSTART:20251102T060000
END:STANDARD
BEGIN:DAYLIGHT
TZOFFSETFROM:-0500
TZOFFSETTO:-0400
TZNAME:EDT
DTSTART:20260308T070000
END:DAYLIGHT
BEGIN:STANDARD
TZOFFSETFROM:-0400
TZOFFSETTO:-0500
TZNAME:EST
DTSTART:20261101T060000
END:STANDARD
END:VTIMEZONE
BEGIN:VEVENT
DTSTART;TZID=America/New_York:20250602T100000
DTEND;TZID=America/New_York:20250602T110000
DTSTAMP:20260420T195048
CREATED:20250320T210017Z
LAST-MODIFIED:20250327T150922Z
UID:10000048-1748858400-1748862000@cottingtransition.org
SUMMARY:Career Navigator Speaker Series
DESCRIPTION:This FREE online session will feature a career guest speaker. More information and Zoom link TBD.
URL:https://cottingtransition.org/event/career-navigator-speaker-series-3/
LOCATION:Online Via Zoom
CATEGORIES:General
END:VEVENT
BEGIN:VEVENT
DTSTART;TZID=America/New_York:20250529T120000
DTEND;TZID=America/New_York:20250529T130000
DTSTAMP:20260420T195048
CREATED:20250317T203217Z
LAST-MODIFIED:20250327T151857Z
UID:10000056-1748520000-1748523600@cottingtransition.org
SUMMARY:Autism Housing Pathways
DESCRIPTION:The third of four FREE online information sessions on housing for people with autism\, hosted by Cathy Boyle\, President of Autism Housing Pathways.
URL:https://cottingtransition.org/event/autism-housing-pathways-2-2/
LOCATION:Online Via Zoom
CATEGORIES:General
END:VEVENT
BEGIN:VEVENT
DTSTART;TZID=America/New_York:20250522T120000
DTEND;TZID=America/New_York:20250522T130000
DTSTAMP:20260420T195048
CREATED:20250317T202905Z
LAST-MODIFIED:20250327T151736Z
UID:10000043-1747915200-1747918800@cottingtransition.org
SUMMARY:Autism Housing Pathways
DESCRIPTION:The second of four FREE online information sessions on housing for people with autism\, hosted by Cathy Boyle\, President of Autism Housing Pathways.
URL:https://cottingtransition.org/event/autism-housing-pathways-2/
LOCATION:Online Via Zoom
CATEGORIES:General
END:VEVENT
BEGIN:VEVENT
DTSTART;TZID=America/New_York:20250519T100000
DTEND;TZID=America/New_York:20250519T110000
DTSTAMP:20260420T195048
CREATED:20250320T205841Z
LAST-MODIFIED:20250327T150945Z
UID:10000042-1747648800-1747652400@cottingtransition.org
SUMMARY:Career Navigator Speaker Series
DESCRIPTION:This FREE online session will feature a career guest speaker. More information and Zoom link TBD.
URL:https://cottingtransition.org/event/career-navigator-speaker-series-2/
LOCATION:Online Via Zoom
CATEGORIES:General
END:VEVENT
BEGIN:VEVENT
DTSTART;TZID=America/New_York:20250515T120000
DTEND;TZID=America/New_York:20250515T130000
DTSTAMP:20260420T195048
CREATED:20250317T201914Z
LAST-MODIFIED:20250327T151623Z
UID:10000040-1747310400-1747314000@cottingtransition.org
SUMMARY:Autism Housing Pathways
DESCRIPTION:The first of four FREE online information sessions on housing for people with autism\, hosted by Cathy Boyle\, President of Autism Housing Pathways.
URL:https://cottingtransition.org/event/autism-housing-pathways/
LOCATION:Online Via Zoom
CATEGORIES:General
END:VEVENT
BEGIN:VEVENT
DTSTART;TZID=America/New_York:20250416T120000
DTEND;TZID=America/New_York:20250416T130000
DTSTAMP:20260420T195048
CREATED:20250314T185826Z
LAST-MODIFIED:20250327T151135Z
UID:10000032-1744804800-1744808400@cottingtransition.org
SUMMARY:High Spirit Community Farm
DESCRIPTION:Join us online for a presentation about High Spirit Community Farm by Advisory Program Director Lesley Eshelman. Zoom link TBD.
URL:https://cottingtransition.org/event/high-spirit-community-farm/
LOCATION:Online Via Zoom
CATEGORIES:General
END:VEVENT
BEGIN:VEVENT
DTSTART;TZID=America/New_York:20250205T090000
DTEND;TZID=America/New_York:20250205T094500
DTSTAMP:20260420T195048
CREATED:20250115T193955Z
LAST-MODIFIED:20250115T193955Z
UID:10000011-1738746000-1738748700@cottingtransition.org
SUMMARY:Welcome Meet & Greet
DESCRIPTION:Join Director Jenn Callison to learn more about CTI services and programs\, as well as how to get involved as a volunteer. Each virtual session will last approximately 45 minutes and will give you an overview of our offerings\, future programs and membership structure. There will also be time for Q&A.\n \nThe sessions will be held on:\n\nWednesday\, January 22\, 12-12:45 p.m.\nThursday\, January 30\, 6-6:45 p.m.\nWednesday\, February 5\, 9-9:45 a.m.\n\n \nThe Zoom link and information is listed below.  If you have any questions\, please don’t hesitate to reach out Jenn at jcallison@cotting.org. We look forward to seeint you there!\n \nZOOM:\nhttps://us02web.zoom.us/j/4454260184?omn=88304345399 \nMeeting ID: 445 426 0184\n—\nOne tap mobile\n+16465588656\,\,4454260184# US (New York)\n+16469313860\,\,4454260184# US
URL:https://cottingtransition.org/event/welcome-meet-greet/2025-02-05/
LOCATION:Online Via Zoom
CATEGORIES:General
END:VEVENT
BEGIN:VEVENT
DTSTART;TZID=America/New_York:20250130T180000
DTEND;TZID=America/New_York:20250130T184500
DTSTAMP:20260420T195048
CREATED:20250115T193955Z
LAST-MODIFIED:20250115T193955Z
UID:10000010-1738260000-1738262700@cottingtransition.org
SUMMARY:Welcome Meet & Greet
DESCRIPTION:Join Director Jenn Callison to learn more about CTI services and programs\, as well as how to get involved as a volunteer. Each virtual session will last approximately 45 minutes and will give you an overview of our offerings\, future programs and membership structure. There will also be time for Q&A.\n \nThe sessions will be held on:\n\nWednesday\, January 22\, 12-12:45 p.m.\nThursday\, January 30\, 6-6:45 p.m.\nWednesday\, February 5\, 9-9:45 a.m.\n\n \nThe Zoom link and information is listed below.  If you have any questions\, please don’t hesitate to reach out Jenn at jcallison@cotting.org. We look forward to seeint you there!\n \nZOOM:\nhttps://us02web.zoom.us/j/4454260184?omn=88304345399 \nMeeting ID: 445 426 0184\n—\nOne tap mobile\n+16465588656\,\,4454260184# US (New York)\n+16469313860\,\,4454260184# US
URL:https://cottingtransition.org/event/welcome-meet-greet/2025-01-30/
LOCATION:Online Via Zoom
CATEGORIES:General
END:VEVENT
BEGIN:VEVENT
DTSTART;TZID=America/New_York:20250122T120000
DTEND;TZID=America/New_York:20250122T124500
DTSTAMP:20260420T195048
CREATED:20250115T193955Z
LAST-MODIFIED:20250115T193955Z
UID:10000009-1737547200-1737549900@cottingtransition.org
SUMMARY:Welcome Meet & Greet
DESCRIPTION:Join Director Jenn Callison to learn more about CTI services and programs\, as well as how to get involved as a volunteer. Each virtual session will last approximately 45 minutes and will give you an overview of our offerings\, future programs and membership structure. There will also be time for Q&A.\n \nThe sessions will be held on:\n\nWednesday\, January 22\, 12-12:45 p.m.\nThursday\, January 30\, 6-6:45 p.m.\nWednesday\, February 5\, 9-9:45 a.m.\n\n \nThe Zoom link and information is listed below.  If you have any questions\, please don’t hesitate to reach out Jenn at jcallison@cotting.org. We look forward to seeint you there!\n \nZOOM:\nhttps://us02web.zoom.us/j/4454260184?omn=88304345399 \nMeeting ID: 445 426 0184\n—\nOne tap mobile\n+16465588656\,\,4454260184# US (New York)\n+16469313860\,\,4454260184# US
URL:https://cottingtransition.org/event/welcome-meet-greet/2025-01-22/
LOCATION:Online Via Zoom
CATEGORIES:General
END:VEVENT
END:VCALENDAR